BEGIN:VCALENDAR
VERSION:2.0
PRODID:Events Booking
BEGIN:VEVENT
UID:69e906401af9b
SUMMARY:Tuc de Planas 1638m (09)
DESCRIPTION:
DTSTART:20260424T220000Z
DTSTAMP:20260422T101204Z
ORGANIZER;CN=Club alpin français de Toulouse:MAILTO:admin@clubalpintoulous
 e.fr
END:VEVENT
END:VCALENDAR