BEGIN:VCALENDAR
VERSION:2.0
PRODID:Events Booking
BEGIN:VEVENT
UID:69e9063f931d8
SUMMARY:Ski de rando - Pic d'Estats (3143m)
DESCRIPTION:
DTSTART:20260425T063000Z
DTSTAMP:20260420T142334Z
ORGANIZER;CN=Club alpin français de Toulouse:MAILTO:admin@clubalpintoulous
 e.fr
END:VEVENT
END:VCALENDAR