BEGIN:VCALENDAR
VERSION:2.0
PRODID:Events Booking
BEGIN:VEVENT
UID:69e9069acbe6b
SUMMARY:Fermeture club printemps 2026
DESCRIPTION:
DTSTART:20260510T220000Z
DTSTAMP:20260420T102251Z
ORGANIZER;CN=Club alpin français de Toulouse:MAILTO:admin@clubalpintoulous
 e.fr
END:VEVENT
END:VCALENDAR