BEGIN:VCALENDAR
VERSION:2.0
PRODID:Events Booking
BEGIN:VEVENT
UID:69e907e1ddb65
SUMMARY:Week end familles : grandes voies semi TA au Caroux
DESCRIPTION:
DTSTART:20260501T050000Z
DTSTAMP:20260420T092651Z
ORGANIZER;CN=Club alpin français de Toulouse:MAILTO:admin@clubalpintoulous
 e.fr
END:VEVENT
END:VCALENDAR