BEGIN:VCALENDAR
VERSION:2.0
PRODID:Events Booking
BEGIN:VEVENT
UID:69e9080555b13
SUMMARY:Séance ouverte aux non abonnés du mardi au Cosec de 18h à 20h
DESCRIPTION:
DTSTART:20260428T160000Z
DTEND:20260428T180000Z
DTSTAMP:20260416T145044Z
ORGANIZER;CN=Club alpin français de Toulouse:MAILTO:admin@clubalpintoulous
 e.fr
END:VEVENT
END:VCALENDAR