BEGIN:VCALENDAR
VERSION:2.0
PRODID:Events Booking
BEGIN:VEVENT
UID:69e906342972c
SUMMARY:Cycle alpi Formation glacier (complet)
DESCRIPTION:
LOCATION:31000\;31100\;31200\;31300\;31400\;31500 Occitanie\, France
DTSTART:20260709T220000Z
DTSTAMP:20260416T095600Z
ORGANIZER;CN=Club alpin français de Toulouse:MAILTO:admin@clubalpintoulous
 e.fr
GEO:43.604464;1.444243
X-APPLE-STRUCTURED-LOCATION;VALUE=URI;X-ADDRESS=31000\;31100\;31200\;31300\
 ;31400\;31500 Occitanie\, France;X-APPLE-RADIUS=72;X-TITLE=Toulouse:43.604
 464;1.444243
END:VEVENT
END:VCALENDAR