BEGIN:VCALENDAR
VERSION:2.0
PRODID:Events Booking
BEGIN:VEVENT
UID:69e906a15137e
SUMMARY:ANNIVERSAIRE 150 ans CAF Toulouse
DESCRIPTION:
LOCATION:Place du Capitole\, Toulouse\, 31000 Occitanie\, France
DTSTART:20260527T160000Z
DTSTAMP:20260415T165943Z
ORGANIZER;CN=Club alpin français de Toulouse:MAILTO:admin@clubalpintoulous
 e.fr
GEO:43.604143;1.444338
X-APPLE-STRUCTURED-LOCATION;VALUE=URI;X-ADDRESS=Place du Capitole\, Toulous
 e\, 31000 Occitanie\, France;X-APPLE-RADIUS=72;X-TITLE=Théâtre du Capito
 le:43.604143;1.444338
END:VEVENT
END:VCALENDAR