BEGIN:VCALENDAR
VERSION:2.0
PRODID:Events Booking
BEGIN:VEVENT
UID:69e7493e83f1f
SUMMARY:Vignemale (3298m)
DESCRIPTION:
DTSTART:20260522T220000Z
DTSTAMP:20251010T130351Z
ORGANIZER;CN=Club alpin français de Toulouse:MAILTO:admin@clubalpintoulous
 e.fr
END:VEVENT
END:VCALENDAR