BEGIN:VCALENDAR
VERSION:2.0
PRODID:Events Booking
BEGIN:VEVENT
UID:69e739545e79a
SUMMARY:Pic du Montcalm (3077 m) - ANNULEE cause METEO
DESCRIPTION:
DTSTART:20260327T230000Z
DTSTAMP:20251010T130351Z
ORGANIZER;CN=Club alpin français de Toulouse:MAILTO:admin@clubalpintoulous
 e.fr
END:VEVENT
END:VCALENDAR